BEGIN:VCALENDAR
VERSION:2.0
PRODID:spatie/icalendar-generator
DESCRIPTION:Events from Town of Narrows
X-WR-CALDESC:Events from Town of Narrows
REFRESH-INTERVAL;VALUE=DURATION:PT1440M
X-PUBLISHED-TTL:PT1440M
BEGIN:VTIMEZONE
TZID:America/Kentucky/Louisville
BEGIN:STANDARD
DTSTART:20241103T020000Z
TZOFFSETFROM:-0400
TZOFFSETTO:-0500
END:STANDARD
BEGIN:DAYLIGHT
DTSTART:20250309T020000Z
TZOFFSETFROM:-0500
TZOFFSETTO:-0400
END:DAYLIGHT
END:VTIMEZONE
BEGIN:VTIMEZONE
TZID:UTC
BEGIN:STANDARD
DTSTART:20250729T003940Z
TZOFFSETFROM:+0000
TZOFFSETTO:+0000
END:STANDARD
END:VTIMEZONE
BEGIN:VEVENT
UID:10-7
DTSTAMP:20260425T003940Z
SUMMARY:Narrows Town Council Meeting
LOCATION:Narrows Town Office 210 Main Street  Narrows VA 24124
ORGANIZER;CN=Lindsey:MAILTO:lcaudill@townofnarrows.org
RRULE:FREQ=MONTHLY;BYDAY=2MO;UNTIL=20251231T000000Z
DTSTART;TZID=America/Kentucky/Louisville:20250310T180000
DTEND;TZID=America/Kentucky/Louisville:20250310T190000
X-ALT-DESC;FMTTYPE=TEXT/HTML:
CATEGORIES:General
URL;VALUE=URI:https://townofnarrows.org/mc-events/narrows-town-council-meet
 ing-5/?mc_id=10
METHOD:PUBLISH
END:VEVENT
END:VCALENDAR